BEGIN:VCALENDAR
VERSION:2.0
PRODID:-//Regional Multi-Actor Research Network - ECPv6.15.16//NONSGML v1.0//EN
CALSCALE:GREGORIAN
METHOD:PUBLISH
X-ORIGINAL-URL:https://rmrn.faraafrica.org
X-WR-CALDESC:Events for Regional Multi-Actor Research Network
REFRESH-INTERVAL;VALUE=DURATION:PT1H
X-Robots-Tag:noindex
X-PUBLISHED-TTL:PT1H
BEGIN:VTIMEZONE
TZID:Europe/Helsinki
BEGIN:DAYLIGHT
TZOFFSETFROM:+0200
TZOFFSETTO:+0300
TZNAME:EEST
DTSTART:20230326T010000
END:DAYLIGHT
BEGIN:STANDARD
TZOFFSETFROM:+0300
TZOFFSETTO:+0200
TZNAME:EET
DTSTART:20231029T010000
END:STANDARD
BEGIN:DAYLIGHT
TZOFFSETFROM:+0200
TZOFFSETTO:+0300
TZNAME:EEST
DTSTART:20240331T010000
END:DAYLIGHT
BEGIN:STANDARD
TZOFFSETFROM:+0300
TZOFFSETTO:+0200
TZNAME:EET
DTSTART:20241027T010000
END:STANDARD
BEGIN:DAYLIGHT
TZOFFSETFROM:+0200
TZOFFSETTO:+0300
TZNAME:EEST
DTSTART:20250330T010000
END:DAYLIGHT
BEGIN:STANDARD
TZOFFSETFROM:+0300
TZOFFSETTO:+0200
TZNAME:EET
DTSTART:20251026T010000
END:STANDARD
END:VTIMEZONE
BEGIN:VEVENT
DTSTART;TZID=Europe/Helsinki:20241105T080000
DTEND;TZID=Europe/Helsinki:20241105T170000
DTSTAMP:20260420T135644
CREATED:20250926T111825Z
LAST-MODIFIED:20250926T111825Z
UID:1236-1730793600-1730826000@rmrn.faraafrica.org
SUMMARY:Agroecology Agenda 4 Tropical Summit
DESCRIPTION:Background\nAgroecology offers a holistic approach to sustainable food systems in the tropics\, enhancing resilience\, biodiversity\, and social equity while reducing environmental degradation. There is evidence of environmental\, social\, economic\, and food system benefits of agroecology in many parts of the globe. Africa is yet to benefit fully from the benefits of Agroecology across the continent. This session creates a common platform for experts\, practioners\, and\nrelevant stakeholders of agroecology to discuss how Africa and the tropics can take advantage of the benefits of agroecology to transform its food system in a sustainable manner. \nDay 1: 5th November\, 2024Day 1: 5th November\, 2024\nTime: 16:30 – 18:00 CETTime: 16:30 – 18:00 CET
URL:https://rmrn.faraafrica.org/event/agroecology-agenda-4-tropical-summit/
ATTACH;FMTTYPE=image/png:https://rmrn.faraafrica.org/wp-content/uploads/2025/09/Tropical-Summit.png
END:VEVENT
END:VCALENDAR